BEGIN:VCALENDAR
VERSION:2.0
PRODID:-//Marnong Estate - ECPv6.15.20//NONSGML v1.0//EN
CALSCALE:GREGORIAN
METHOD:PUBLISH
X-WR-CALNAME:Marnong Estate
X-ORIGINAL-URL:https://marnongestate.com.au
X-WR-CALDESC:Events for Marnong Estate
REFRESH-INTERVAL;VALUE=DURATION:PT1H
X-Robots-Tag:noindex
X-PUBLISHED-TTL:PT1H
BEGIN:VTIMEZONE
TZID:Australia/Melbourne
BEGIN:STANDARD
TZOFFSETFROM:+1100
TZOFFSETTO:+1000
TZNAME:AEST
DTSTART:20250405T160000
END:STANDARD
BEGIN:DAYLIGHT
TZOFFSETFROM:+1000
TZOFFSETTO:+1100
TZNAME:AEDT
DTSTART:20251004T160000
END:DAYLIGHT
BEGIN:STANDARD
TZOFFSETFROM:+1100
TZOFFSETTO:+1000
TZNAME:AEST
DTSTART:20260404T160000
END:STANDARD
BEGIN:DAYLIGHT
TZOFFSETFROM:+1000
TZOFFSETTO:+1100
TZNAME:AEDT
DTSTART:20261003T160000
END:DAYLIGHT
BEGIN:STANDARD
TZOFFSETFROM:+1100
TZOFFSETTO:+1000
TZNAME:AEST
DTSTART:20270403T160000
END:STANDARD
BEGIN:DAYLIGHT
TZOFFSETFROM:+1000
TZOFFSETTO:+1100
TZNAME:AEDT
DTSTART:20271002T160000
END:DAYLIGHT
END:VTIMEZONE
BEGIN:VEVENT
DTSTART;TZID=Australia/Melbourne:20260503T100000
DTEND;TZID=Australia/Melbourne:20260503T150000
DTSTAMP:20260421T024056
CREATED:20260202T020617Z
LAST-MODIFIED:20260227T061249Z
UID:10000992-1777802400-1777820400@marnongestate.com.au
SUMMARY:Craft Market at Marnong Estate
DESCRIPTION:Craft Market at Marnong Estate\nSunday 3 May 2026 | 10:00am – 3:00pm \nThe Craft Market at Marnong Estate returns on Sunday 3 May 2026\, offering a relaxed open-air market set within one of Victoria’s most scenic winery destinations. \nIf you’re looking for a market with something more\, this is a day designed to be enjoyed at an easy pace. From the moment you arrive\, the Estate feels open\, welcoming\, and effortless to explore. Wander the grounds\, browse beautifully curated stalls\, enjoy great food\, and settle into a perfect Sunday atmosphere. \nPresented in collaboration with Craft Markets Australia\, the market features over 50 boutique stallholders showcasing handmade\, small-batch\, and locally produced goods. Whether you stop by briefly or spend the afternoon\, the experience remains calm\, spacious\, and unhurried. \nDiscover Local Makers\nStalls feature handcrafted jewellery\, ceramics\, candles\, slow fashion\, eco-friendly homewares\, artisan skincare\, gourmet pantry items\, chocolates\, pet treats\, and thoughtful gifts. Each maker brings a unique story\, making this a wonderful place to discover something special while supporting local creativity. \nFood\, Coffee and Live Music\nCafé Vista will be open throughout the morning serving coffee and breakfast treats. Later\, the Cannoli Bike returns with its much-loved lamb spit rolls and hand-filled dolci siciliani. \nLive music adds to the laid-back feel of the day\, with a live artist performing on the Main Lawn from 12:00pm to 5:00pm.Artist details to be announced. \nStallholder Applications\nStallholder applications are managed exclusively through Craft Markets Australia. All enquiries and applications must be submitted via their official channels. \nApply To Be A Stall Holders Here\nExtend Your Visit\nAfter exploring the market\, stay and enjoy the Estate. Vista offers pizza al taglio and estate wine\, Cucina 3064 serves generous Italian dishes in a relaxed setting\, and La Vètta delivers Chef’s Hat-awarded dining paired with estate-grown wines. The Cellar Door is also open for guided tastings. \nBookings are essential for Cucina 3064 and La Vètta. \nBook Cucina 3064 Book La Vètta\nPlease Note\nThis is a BYO picnic blanket event only. Marnong Estate is a fully licensed venue with dining options and a Farm Shop on site. Dogs\, outside food and beverages\, and ball games are not permitted. \nCome for the market\, stay for the food\, music\, and atmosphere\, and enjoy a relaxed Sunday at one of Victoria’s most loved winery destinations.
URL:https://marnongestate.com.au/calendar/events-craft-market-marnong-estate-03-may-2026/
LOCATION:Marnong Estate\, 2335 Mickleham Rd\, Mickleham\, VIC\, 3064\, Australia
CATEGORIES:Craft Market
ATTACH;FMTTYPE=image/png:https://marnongestate.com.au/wp-content/uploads/2026/02/ME_Events_CraftMarkets-e1772171640940.png
ORGANIZER;CN="Marnong Estate":MAILTO:enquiry@marnongestate.com
END:VEVENT
BEGIN:VEVENT
DTSTART;TZID=Australia/Melbourne:20260510T080000
DTEND;TZID=Australia/Melbourne:20260510T213000
DTSTAMP:20260421T024056
CREATED:20260227T050434Z
LAST-MODIFIED:20260330T221612Z
UID:10000996-1778400000-1778448600@marnongestate.com.au
SUMMARY:Mother's Day
DESCRIPTION:Mother’s Day at Marnong Estate\nThis Mother’s Day\, celebrate the woman who does it all with an experience that feels considered\, generous and truly special. \nAt Marnong Estate\, we invite you to gather la famiglia and choose your perfect way to honour Mum — from a vibrant buffet breakfast to a refined five-course Chef’s Journey\, or a relaxed Italian lunch and dinner. \nTables are limited across all venues. Early bookings are strongly recommended. \nFind Out More\n\nMother’s Day Breakfast\nBegin the day beautifully. \nTreat Mum to a generous gourmet buffet breakfast in the heart of the estate. Designed for relaxed family gatherings\, this vibrant morning celebration features a selection of premium hot and cold dishes\, alongside filter coffee\, tea and fruit juices. \nOptional sparkling upgrades will be available for those wanting to toast Mum in style. \nFiner Details:\nDate: Sunday 10th May\nTime: 7:30am – 9:30am\nPrice: $55 pp Adults | $35 pp Kids \nView Menu Reserve Your Table\n\nLa Vètta\nFive-Course Chef’s Journey\nFor those seeking something elevated\, celebrate in signature style at our One Chef’s Hat-awarded Italian ristorante. \nLa Vètta presents a refined five-course Chef’s Journey inspired by seasonal produce and modern Italian technique. This immersive dining experience unfolds course by course\, delivering elegance\, precision and unforgettable flavour. \nPerfect for those wanting to truly indulge Mum in a luxurious setting overlooking the vineyards. \nChildren’s menu available. \nFiner Details:\nDate: Sunday 10th May\nLunch: 12:00pm – 3:00pm\nDinner: 6:00pm – 9:30pm\nPrice: $145 pp Adults | $55 pp Kids \nView Menu Reserve Lunch Reserve Dinner\n\nCucina 3064\nCelebrate with warmth\, generosity and modern Italian flavour. \nCucina 3064 presents a specially curated three-course Mother’s Day experience designed for sharing and enjoyment. The atmosphere is relaxed yet refined — perfect for family gatherings of all sizes. \nA dedicated children’s menu ensures the whole table can celebrate comfortably. \nFiner Details:\nDate: Sunday 10th May\nLunch: 12:00pm – 3:00pm\nDinner: 6:00pm – 9:30pm\nPrice: $85 pp Adults | $25 pp Kids \nView Menu Book Lunch Book Dinner\n\nStay & Dine\nTurn Mother’s Day into a Weekend Escape \nWhy let the celebration end after lunch? \nExtend Mother’s Day with overnight accommodation overlooking the vineyards and Macedon Ranges. Our Stay & Dine experience includes: \n• Overnight stay in a Studio or One-Bedroom Suite• Dining credit for La Vètta or Cucina 3064• Wine tasting for two• A bottle of sparkling on arrival \nBecause sometimes the most meaningful gift is time together.
URL:https://marnongestate.com.au/calendar/events-mothers-day-at-marnong-estate/
LOCATION:Marnong Estate\, 2335 Mickleham Rd\, Mickleham\, VIC\, 3064\, Australia
ATTACH;FMTTYPE=image/png:https://marnongestate.com.au/wp-content/uploads/2026/02/ME_Events_Mothers-Day-e1772171552607.png
ORGANIZER;CN="Marnong Estate":MAILTO:enquiry@marnongestate.com
END:VEVENT
BEGIN:VEVENT
DTSTART;TZID=Australia/Melbourne:20260521T090000
DTEND;TZID=Australia/Melbourne:20260521T170000
DTSTAMP:20260421T024056
CREATED:20260306T045542Z
LAST-MODIFIED:20260331T003122Z
UID:10001003-1779354000-1779382800@marnongestate.com.au
SUMMARY:Own Your Truth LIVE
DESCRIPTION:Own Your Truth LIVE with Layne Beachley & Tess Brouwer\nA premium live experience for people ready to lead\, live and connect from truth — not pressure. \nThis is not a motivational talk.\nIt’s not therapy.\nAnd it’s not another feel-good seminar. \nOwn Your Truth Live is a powerful\, immersive experience designed to help you reconnect with who you are beneath expectations\, performance and noise — and leave with clarity\, confidence and emotional strength you can actually use. \nFor the first time ever\, this event is coming to Melbourne. \n\nEVENT DETAILS \nLocation: Marnong Estate\, Vic\nFormat: Live\, immersive experience\nPresented by: Awake Academy\nFacilitators: Layne Beachley AO & Tess Brouwer\nCapacity: Limited tickets available \n\nWHAT YOU’LL GAIN \nThis experience will help you: \n\nReconnect with yourself beneath roles and expectations\nBuild emotional clarity and self-trust\nStrengthen resilience without burning out\nCommunicate with honesty and confidence\nLead yourself — and others — from truth\, not fear\n\nThis isn’t about fixing yourself.\nIt’s about owning who you already are. \n\nWHAT’S INCLUDED (ALL TICKETS) \nEvery participant receives: \n\nFull access to Own Your Truth Live\nLive delivery by Layne Beachley AO & Tess Brouwer\nInteractive exercises and guided reflection\nPractical mental and emotional fitness tools\nOwn Your Truth Toolkit\nPost-event integration resources\n\nFIND OUT MORE \n\nGENERAL ADMISSION \nEarly Bird: $399\nStandard: $420 \nIncludes full access to the live experience and toolkit. \nVIP EXPERIENCE — LIMITED \nA premium\, high-touch experience with added access and continued support. \nIncludes everything in General Admission\, plus: \n\nFront-row reserved seating\nSigned Awake Academy book\nOfficial Awake Academy T-shirt\nProfessional photo with Layne Beachley AO & Tess Brouwer\n2-month subscription to Awake Collective\n\nVIP Investment: $599 (VIP tickets are strictly limited to preserve intimacy and access) \nRESERVE  NOW \n\nABOUT YOUR FACILITATORS \nLayne Beachley AO\n7x World Champion and one of Australia’s most accomplished athletes\, now mentoring leaders and teams in mental fitness\, resilience and performance under pressure. \nTess Brouwer\nMental and emotional fitness trainer\, best-selling author and Channel 7 Mood Booster host\, known for blending science-backed psychology with lived experience. \nTogether\, they are redefining mental and emotional fitness in Australia. \n\nWHO THIS EVENT IS FOR \nPerfect for: \n\nLeaders and professionals carrying responsibility and pressure\nHigh performers navigating burnout\, change or self-doubt\nPeople craving clarity\, confidence and emotional steadiness\nAnyone ready to stop people-pleasing and start living honestly\n\nYou don’t need to be broken.\nYou just need to be ready. \n  \nRefund policy \nRefunds are available up to 7 days prior to the event date. Refund requests made within 7 days of the event are not eligible for a refund.\nTickets are not transferable to another event\, date\, or workshop.\nIf you are unable to attend\, you are welcome to transfer your ticket to a friend or family member to attend in your place.
URL:https://marnongestate.com.au/calendar/own-your-truth-live/
LOCATION:Marnong Estate\, 2335 Mickleham Rd\, Mickleham\, VIC\, 3064\, Australia
ATTACH;FMTTYPE=image/jpeg:https://marnongestate.com.au/wp-content/uploads/2026/03/ME_Events_OwnYourTruthEvents-Page-391.jpg
ORGANIZER;CN="Marnong Estate":MAILTO:enquiry@marnongestate.com
END:VEVENT
END:VCALENDAR