BEGIN:VCALENDAR
VERSION:2.0
PRODID:-//Marnong Estate - ECPv6.15.20//NONSGML v1.0//EN
CALSCALE:GREGORIAN
METHOD:PUBLISH
X-ORIGINAL-URL:https://marnongestate.com.au
X-WR-CALDESC:Events for Marnong Estate
REFRESH-INTERVAL;VALUE=DURATION:PT1H
X-Robots-Tag:noindex
X-PUBLISHED-TTL:PT1H
BEGIN:VTIMEZONE
TZID:Australia/Melbourne
BEGIN:STANDARD
TZOFFSETFROM:+1100
TZOFFSETTO:+1000
TZNAME:AEST
DTSTART:20250405T160000
END:STANDARD
BEGIN:DAYLIGHT
TZOFFSETFROM:+1000
TZOFFSETTO:+1100
TZNAME:AEDT
DTSTART:20251004T160000
END:DAYLIGHT
BEGIN:STANDARD
TZOFFSETFROM:+1100
TZOFFSETTO:+1000
TZNAME:AEST
DTSTART:20260404T160000
END:STANDARD
BEGIN:DAYLIGHT
TZOFFSETFROM:+1000
TZOFFSETTO:+1100
TZNAME:AEDT
DTSTART:20261003T160000
END:DAYLIGHT
BEGIN:STANDARD
TZOFFSETFROM:+1100
TZOFFSETTO:+1000
TZNAME:AEST
DTSTART:20270403T160000
END:STANDARD
BEGIN:DAYLIGHT
TZOFFSETFROM:+1000
TZOFFSETTO:+1100
TZNAME:AEDT
DTSTART:20271002T160000
END:DAYLIGHT
END:VTIMEZONE
BEGIN:VEVENT
DTSTART;TZID=Australia/Melbourne:20260712T100000
DTEND;TZID=Australia/Melbourne:20260712T123000
DTSTAMP:20260421T055355
CREATED:20260202T043826Z
LAST-MODIFIED:20260312T223229Z
UID:10000994-1783850400-1783859400@marnongestate.com.au
SUMMARY:Winter Wedding Showcase at Marnong Estate
DESCRIPTION:Discover why Marnong Estate was awarded 2025 Victoria’s Best Wedding Reception Venue \nThe Winter Wedding Showcase at Marnong Estate invites couples to experience an award-winning wedding venue in person. This immersive event helps you picture your wedding day through styled spaces\, curated food\, and personal moments with the Marnong wedding team. \nFrom the moment you arrive\, the Estate feels warm and welcoming. First\, you step into beautifully styled ceremony and reception spaces. Then\, as you explore\, each setting helps you imagine your celebration taking shape. As a result\, planning your day feels easier and more confident. \nChoosing a wedding venue is a major decision. For this reason\, the Winter Wedding Showcase at Marnong Estate allows you to experience the venue in full. You can see the spaces\, feel the atmosphere\, and understand how your day could flow. \nWhether you are newly engaged or refining your plans\, you can explore the Estate at your own pace. Along the way\, thoughtful details guide your imagination. As a result\, your wedding vision begins to feel real. \nWinter Wedding Showcase at Marnong Estate: Your Experience\nFirst\, enjoy sparkling wine on arrival. Next\, take a relaxed walk through the Estate’s signature ceremony and reception spaces. These include The Green Grove\, The Secret Garden\, The Angliss Room\, The Woolshed\, The Lookout Marquee\, and The Homestead. \nThroughout the Estate\, you will see styling ideas designed to inspire. In addition\, curated food stations offer a taste of the wedding dining experience. Finally\, you can meet trusted preferred suppliers and explore options for your day. \nMeet the Marnong Estate Wedding Team\nIf you are ready to take the next step\, you can meet one-on-one with a dedicated Wedding Sales Associate. During these conversations\, the team answers questions and offers clear guidance. As a result\, you can move forward with confidence. \nYou can also explore our Wedding Venues at Marnong Estate to learn more about hosting your celebration with us. \nDiscover the Marnong Difference\nLet your imagination roam as you explore the spaces. Feel the emotion of your day taking shape. Experience the care\, service\, and attention to detail that define weddings at Marnong Estate. \nJoin us at the Winter Wedding Showcase and discover why so many couples choose Marnong Estate for their celebration. \nGet Tickets Here\nRefund policy\nRefunds are available up to 7 days prior to the event date. Refund requests made within 7 days of the event are not eligible for a refund.\nTickets are not transferable to another event\, date\, or workshop.\nIf you are unable to attend\, you are welcome to transfer your ticket to a friend or family member to attend in your place.
URL:https://marnongestate.com.au/calendar/events-winter-wedding-showcase-marnong-estate/
LOCATION:Marnong Estate\, 2335 Mickleham Rd\, Mickleham\, VIC\, 3064\, Australia
ATTACH;FMTTYPE=image/png:https://marnongestate.com.au/wp-content/uploads/2026/02/Marnong_Events_Winter-Wedding-Showcase_Events-e1770007180780.png
ORGANIZER;CN="Marnong Estate":MAILTO:enquiry@marnongestate.com
END:VEVENT
END:VCALENDAR