BEGIN:VCALENDAR
VERSION:2.0
PRODID:-//Marnong Estate - ECPv6.15.20//NONSGML v1.0//EN
CALSCALE:GREGORIAN
METHOD:PUBLISH
X-ORIGINAL-URL:https://marnongestate.com.au
X-WR-CALDESC:Events for Marnong Estate
REFRESH-INTERVAL;VALUE=DURATION:PT1H
X-Robots-Tag:noindex
X-PUBLISHED-TTL:PT1H
BEGIN:VTIMEZONE
TZID:Australia/Melbourne
BEGIN:STANDARD
TZOFFSETFROM:+1100
TZOFFSETTO:+1000
TZNAME:AEST
DTSTART:20240406T160000
END:STANDARD
BEGIN:DAYLIGHT
TZOFFSETFROM:+1000
TZOFFSETTO:+1100
TZNAME:AEDT
DTSTART:20241005T160000
END:DAYLIGHT
BEGIN:STANDARD
TZOFFSETFROM:+1100
TZOFFSETTO:+1000
TZNAME:AEST
DTSTART:20250405T160000
END:STANDARD
BEGIN:DAYLIGHT
TZOFFSETFROM:+1000
TZOFFSETTO:+1100
TZNAME:AEDT
DTSTART:20251004T160000
END:DAYLIGHT
BEGIN:STANDARD
TZOFFSETFROM:+1100
TZOFFSETTO:+1000
TZNAME:AEST
DTSTART:20260404T160000
END:STANDARD
BEGIN:DAYLIGHT
TZOFFSETFROM:+1000
TZOFFSETTO:+1100
TZNAME:AEDT
DTSTART:20261003T160000
END:DAYLIGHT
END:VTIMEZONE
BEGIN:VEVENT
DTSTART;TZID=Australia/Melbourne:20251102T140000
DTEND;TZID=Australia/Melbourne:20251102T170000
DTSTAMP:20260421T140704
CREATED:20251012T232650Z
LAST-MODIFIED:20251016T002654Z
UID:10000731-1762092000-1762102800@marnongestate.com.au
SUMMARY:Vista Vibes — Live Music Sundays
DESCRIPTION:Sundays at Marnong Estate\nSundays are made for slowing down — and live music at Marnong Estate is the perfect way to do it. Each week\, the Main Lawn transforms into a relaxed escape where music\, views\, and good company flow together. \nSpread out a picnic blanket* and let the rhythm of live music guide your afternoon. With the Macedon Ranges as your backdrop\, every note feels a little sweeter and every moment a little slower. \nSip on estate wines\, share laughter with friends\, and watch the sky shift as the sun begins to dip. Keep an eye on the horizon — you may even spot our resident camels grazing nearby\, adding a touch of magic to the view. \nThe Details\n2pm – 5pm\nThe Main Lawn\, Marnong EstateWeekly live music performances featuring local artists \nUpcoming Live Music November Line-Up\n2nd November: Bianca & DaynaThis husband and wife duo perform an eclectic mix of classic tunes to recent hits with male & female vocals\, acoustic vibes\, and a rhythmic beat. They’ll get you tapping your feet and singing along before you even realise! 📸@the_fleetwood_pac \n9th November: David JosephDavid is an accomplished Singer/Guitar player with over 25 years of experience touring nationally and internationally. His repertoire spans the decades\, from retro hits to modern classics. Most notably\, David is a regular featured artist at Club Med Resorts.. 📸@david_joseph_singer \n16th November: Rance LazarusA Melbourne-based singer-songwriter performing rock\, pop\, and country classics. Rance delivers crowd-pleasing favourites and sing-along hits for every audience. 📸@rancelaz_music \n23rd November: Freddie GibsonPerforming solo with acoustic guitar and vocals\, Freddie delivers heartfelt renditions of timeless favourites. 📸@freddiegibson_music \n30th November: Chris Hoffman \n🍷 Extend Your Visit — Food and Wine\nAfter soaking in the live music\, unwind with a meal or tasting at one of Marnong Estate’s restaurants. \nVista – Just steps away from the Main Lawn\, serving pizza al taglio\, estate wine\, and casual outdoor dining.Cucina 3064 – Share generous Italian dishes in a relaxed\, family-friendly setting.La Vètta – Experience refined dining at our One Chef’s Hat-awarded restaurant.Cellar Door – Enjoy guided wine tastings and elevate the experience with artisanal cheese\, charcuterie\, or antipasto. \nTo ensure a relaxed day please book ahead — weekends and event days fill quickly. \nPlease Note:\n* BYO own picnic blanket only please.\nMarnong Estate is a fully licensed venue with three wonderful dining options and a Cellar Door. Please leave your animals\, ball games and own food and beverages at home. 
URL:https://marnongestate.com.au/calendar/vista-vibes-live-music-sundays-2/2025-11-02/
LOCATION:Marnong Estate\, 2335 Mickleham Rd\, Mickleham\, VIC\, 3064\, Australia
CATEGORIES:Vista Vibes
ATTACH;FMTTYPE=image/jpeg:https://marnongestate.com.au/wp-content/uploads/2025/10/The-weather-is-perfect.-The-vibes-are-set.-All-thats-missing-is-you-e1760311402192.jpg
ORGANIZER;CN="Marnong Estate":MAILTO:enquiry@marnongestate.com
END:VEVENT
END:VCALENDAR